{
 "currentVersion": 10.91,
 "serviceDescription": "12621E411840N_sid",
 "name": "12621E411840N_sid",
 "description": "",
 "extent": {
  "xmin": 12621576,
  "ymin": 411840.25,
  "xmax": 12698136,
  "ymax": 435600,
  "spatialReference": {
   "wkid": 102690,
   "latestWkid": 102690
  }
 },
 "initialExtent": {
  "xmin": 12621576,
  "ymin": 411840.25,
  "xmax": 12698136,
  "ymax": 435600,
  "spatialReference": {
   "wkid": 102690,
   "latestWkid": 102690
  }
 },
 "fullExtent": {
  "xmin": 12621576,
  "ymin": 411840.25,
  "xmax": 12698136,
  "ymax": 435600,
  "spatialReference": {
   "wkid": 102690,
   "latestWkid": 102690
  }
 },
 "hasMultidimensions": false,
 "pixelSizeX": 0.25,
 "pixelSizeY": 0.25,
 "datasetFormat": "MrSID",
 "uncompressedSize": 87314230080,
 "blockWidth": 1024,
 "blockHeight": 128,
 "compressionType": "Wavelet (MG3)",
 "bandNames": [
  "Band_1",
  "Band_2",
  "Band_3"
 ],
 "allowCopy": true,
 "allowAnalysis": true,
 "bandCount": 3,
 "pixelType": "U8",
 "minPixelSize": 0,
 "maxPixelSize": 0,
 "copyrightText": "",
 "serviceDataType": "esriImageServiceDataTypeProcessed",
 "serviceSourceType": "esriImageServiceSourceTypeDataset",
 "minValues": [
  6,
  3,
  9
 ],
 "maxValues": [
  255,
  255,
  229
 ],
 "meanValues": [
  146.26524822695,
  130.91673758865,
  99.241843971631
 ],
 "stdvValues": [
  32.697001371643,
  29.138919222753,
  25.212021943916
 ],
 "objectIdField": "",
 "fields": [],
 "capabilities": "Image,Metadata,Mensuration",
 "defaultMosaicMethod": "Center",
 "allowedMosaicMethods": "",
 "sortField": "",
 "sortValue": null,
 "sortAscending": true,
 "mosaicOperator": "First",
 "defaultCompressionQuality": 75,
 "defaultResamplingMethod": "Bilinear",
 "maxImageHeight": 4100,
 "maxImageWidth": 15000,
 "allowRasterFunction": true,
 "rasterFunctionInfos": [
  {
   "name": "None",
   "description": "",
   "help": ""
  }
 ],
 "rasterTypeInfos": [
  {
   "name": "Raster Dataset",
   "description": "Supports all ArcGIS Raster Datasets",
   "help": ""
  }
 ],
 "mensurationCapabilities": "Basic",
 "hasHistograms": true,
 "hasColormap": false,
 "hasRasterAttributeTable": false,
 "minScale": 0,
 "maxScale": 0,
 "exportTilesAllowed": false,
 "supportsStatistics": false,
 "supportsAdvancedQueries": false,
 "editFieldsInfo": null,
 "ownershipBasedAccessControlForRasters": null,
 "allowComputeTiePoints": false,
 "useStandardizedQueries": true,
 "advancedQueryCapabilities": {
  "useStandardizedQueries": true,
  "supportsStatistics": false,
  "supportsOrderBy": false,
  "supportsDistinct": false,
  "supportsPagination": false
 },
 "spatialReference": {
  "wkid": 102690,
  "latestWkid": 102690
 }
}
