{
 "currentVersion": 10.91,
 "serviceDescription": "12769E425040N_sid",
 "name": "12769E425040N_sid",
 "description": "",
 "extent": {
  "xmin": 12758856,
  "ymin": 419760.25,
  "xmax": 12809016,
  "ymax": 454080.25,
  "spatialReference": {
   "wkid": 102690,
   "latestWkid": 102690
  }
 },
 "initialExtent": {
  "xmin": 12758856,
  "ymin": 419760.25,
  "xmax": 12809016,
  "ymax": 454080.25,
  "spatialReference": {
   "wkid": 102690,
   "latestWkid": 102690
  }
 },
 "fullExtent": {
  "xmin": 12758856,
  "ymin": 419760.25,
  "xmax": 12809016,
  "ymax": 454080.25,
  "spatialReference": {
   "wkid": 102690,
   "latestWkid": 102690
  }
 },
 "hasMultidimensions": false,
 "pixelSizeX": 0.25,
 "pixelSizeY": 0.25,
 "datasetFormat": "MrSID",
 "uncompressedSize": 82631577600,
 "blockWidth": 1024,
 "blockHeight": 128,
 "compressionType": "Wavelet (MG3)",
 "bandNames": [
  "Band_1",
  "Band_2",
  "Band_3"
 ],
 "allowCopy": true,
 "allowAnalysis": true,
 "bandCount": 3,
 "pixelType": "U8",
 "minPixelSize": 0,
 "maxPixelSize": 0,
 "copyrightText": "",
 "serviceDataType": "esriImageServiceDataTypeProcessed",
 "serviceSourceType": "esriImageServiceSourceTypeDataset",
 "minValues": [
  0,
  0,
  15
 ],
 "maxValues": [
  253,
  234,
  205
 ],
 "meanValues": [
  151.75285114046,
  135.87154861945,
  104.25915366146
 ],
 "stdvValues": [
  33.854053385769,
  29.514712503163,
  24.738037602966
 ],
 "objectIdField": "",
 "fields": [],
 "capabilities": "Image,Metadata,Mensuration",
 "defaultMosaicMethod": "Center",
 "allowedMosaicMethods": "",
 "sortField": "",
 "sortValue": null,
 "sortAscending": true,
 "mosaicOperator": "First",
 "defaultCompressionQuality": 75,
 "defaultResamplingMethod": "Bilinear",
 "maxImageHeight": 4100,
 "maxImageWidth": 15000,
 "allowRasterFunction": true,
 "rasterFunctionInfos": [
  {
   "name": "None",
   "description": "",
   "help": ""
  }
 ],
 "rasterTypeInfos": [
  {
   "name": "Raster Dataset",
   "description": "Supports all ArcGIS Raster Datasets",
   "help": ""
  }
 ],
 "mensurationCapabilities": "Basic",
 "hasHistograms": true,
 "hasColormap": false,
 "hasRasterAttributeTable": false,
 "minScale": 0,
 "maxScale": 0,
 "exportTilesAllowed": false,
 "supportsStatistics": false,
 "supportsAdvancedQueries": false,
 "editFieldsInfo": null,
 "ownershipBasedAccessControlForRasters": null,
 "allowComputeTiePoints": false,
 "useStandardizedQueries": true,
 "advancedQueryCapabilities": {
  "useStandardizedQueries": true,
  "supportsStatistics": false,
  "supportsOrderBy": false,
  "supportsDistinct": false,
  "supportsPagination": false
 },
 "spatialReference": {
  "wkid": 102690,
  "latestWkid": 102690
 }
}
