{ "currentVersion": 10.91, "cimVersion": "2.9.0", "serviceDescription": "
A simple basemap to use for online mapping.<\/SPAN><\/P><\/DIV>",
"mapName": "AC Basemap",
"description": " A simple basemap to use for online mapping.<\/SPAN><\/P><\/DIV>",
"copyrightText": "",
"supportsDynamicLayers": false,
"layers": [
{
"id": 0,
"name": "AlleganCountyRoads",
"parentLayerId": -1,
"defaultVisibility": true,
"subLayerIds": null,
"minScale": 0,
"maxScale": 0,
"type": "Feature Layer",
"geometryType": "esriGeometryPolyline",
"supportsDynamicLegends": true
},
{
"id": 1,
"name": "NWS_CommonNames",
"parentLayerId": -1,
"defaultVisibility": false,
"subLayerIds": null,
"minScale": 24000,
"maxScale": 0,
"type": "Feature Layer",
"geometryType": "esriGeometryPoint",
"supportsDynamicLegends": true
},
{
"id": 2,
"name": "Addresses",
"parentLayerId": -1,
"defaultVisibility": false,
"subLayerIds": null,
"minScale": 24000,
"maxScale": 0,
"type": "Feature Layer",
"geometryType": "esriGeometryPoint",
"supportsDynamicLegends": true
},
{
"id": 3,
"name": "Roads",
"parentLayerId": -1,
"defaultVisibility": false,
"subLayerIds": null,
"minScale": 0,
"maxScale": 0,
"type": "Feature Layer",
"geometryType": "esriGeometryPolyline",
"supportsDynamicLegends": true
},
{
"id": 4,
"name": "Rail",
"parentLayerId": -1,
"defaultVisibility": false,
"subLayerIds": null,
"minScale": 0,
"maxScale": 0,
"type": "Feature Layer",
"geometryType": "esriGeometryPolyline",
"supportsDynamicLegends": true
},
{
"id": 5,
"name": "Mile_Markers",
"parentLayerId": -1,
"defaultVisibility": false,
"subLayerIds": null,
"minScale": 0,
"maxScale": 0,
"type": "Feature Layer",
"geometryType": "esriGeometryPoint",
"supportsDynamicLegends": true
},
{
"id": 6,
"name": "ESNs",
"parentLayerId": -1,
"defaultVisibility": false,
"subLayerIds": null,
"minScale": 0,
"maxScale": 0,
"type": "Feature Layer",
"geometryType": "esriGeometryPolygon",
"supportsDynamicLegends": true
},
{
"id": 7,
"name": "Lakes",
"parentLayerId": -1,
"defaultVisibility": false,
"subLayerIds": null,
"minScale": 0,
"maxScale": 0,
"type": "Feature Layer",
"geometryType": "esriGeometryPolygon",
"supportsDynamicLegends": true
},
{
"id": 8,
"name": "Rivers",
"parentLayerId": -1,
"defaultVisibility": false,
"subLayerIds": null,
"minScale": 0,
"maxScale": 0,
"type": "Feature Layer",
"geometryType": "esriGeometryPolyline",
"supportsDynamicLegends": true
},
{
"id": 9,
"name": "Police_ORI",
"parentLayerId": -1,
"defaultVisibility": false,
"subLayerIds": null,
"minScale": 0,
"maxScale": 0,
"type": "Feature Layer",
"geometryType": "esriGeometryPolygon",
"supportsDynamicLegends": true
},
{
"id": 10,
"name": "Police_Beats",
"parentLayerId": -1,
"defaultVisibility": false,
"subLayerIds": null,
"minScale": 0,
"maxScale": 0,
"type": "Feature Layer",
"geometryType": "esriGeometryPolygon",
"supportsDynamicLegends": true
},
{
"id": 11,
"name": "Fire_ORI",
"parentLayerId": -1,
"defaultVisibility": false,
"subLayerIds": null,
"minScale": 0,
"maxScale": 0,
"type": "Feature Layer",
"geometryType": "esriGeometryPolygon",
"supportsDynamicLegends": true
},
{
"id": 12,
"name": "Fire_Areas",
"parentLayerId": -1,
"defaultVisibility": false,
"subLayerIds": null,
"minScale": 0,
"maxScale": 0,
"type": "Feature Layer",
"geometryType": "esriGeometryPolygon",
"supportsDynamicLegends": true
},
{
"id": 13,
"name": "EMS_ORI",
"parentLayerId": -1,
"defaultVisibility": false,
"subLayerIds": null,
"minScale": 0,
"maxScale": 0,
"type": "Feature Layer",
"geometryType": "esriGeometryPolygon",
"supportsDynamicLegends": true
},
{
"id": 14,
"name": "EMS_Areas",
"parentLayerId": -1,
"defaultVisibility": false,
"subLayerIds": null,
"minScale": 0,
"maxScale": 0,
"type": "Feature Layer",
"geometryType": "esriGeometryPolygon",
"supportsDynamicLegends": true
},
{
"id": 15,
"name": "Wreckers",
"parentLayerId": -1,
"defaultVisibility": false,
"subLayerIds": null,
"minScale": 0,
"maxScale": 0,
"type": "Feature Layer",
"geometryType": "esriGeometryPolygon",
"supportsDynamicLegends": true
},
{
"id": 16,
"name": "Allegan_12in_RGB_SID_Mosaic.sid",
"parentLayerId": -1,
"defaultVisibility": true,
"subLayerIds": null,
"minScale": 0,
"maxScale": 0,
"type": "Raster Layer",
"supportsDynamicLegends": true
}
],
"tables": [],
"spatialReference": {
"wkid": 103079,
"latestWkid": 6499,
"xyTolerance": 0.0032808398950131233,
"zTolerance": 2,
"mTolerance": 0.001,
"falseX": -107138600,
"falseY": -97193800,
"xyUnits": 3.744825048463371E7,
"falseZ": 0,
"zUnits": 1,
"falseM": -100000,
"mUnits": 10000
},
"singleFusedMapCache": true,
"tileInfo": {
"rows": 256,
"cols": 256,
"dpi": 96,
"format": "Mixed",
"compressionQuality": 75,
"origin": {
"x": -1.0713819264027426E8,
"y": 1.1550296244102809E8
},
"spatialReference": {
"wkid": 103079,
"latestWkid": 6499,
"xyTolerance": 0.0032808398950131233,
"zTolerance": 2,
"mTolerance": 0.001,
"falseX": -107138600,
"falseY": -97193800,
"xyUnits": 3.744825048463371E7,
"falseZ": 0,
"zUnits": 1,
"falseM": -100000,
"mUnits": 10000
},
"lods": [
{
"level": 0,
"resolution": 939543.3767213027,
"scale": 1.0823539699829407E9
},
{
"level": 1,
"resolution": 469771.6883606514,
"scale": 5.411769849914703E8
},
{
"level": 2,
"resolution": 234885.8441803257,
"scale": 2.7058849249573517E8
},
{
"level": 3,
"resolution": 117442.92209016284,
"scale": 1.3529424624786758E8
},
{
"level": 4,
"resolution": 58721.46104508142,
"scale": 6.764712312393379E7
},
{
"level": 5,
"resolution": 29360.73052254071,
"scale": 3.3823561561966896E7
},
{
"level": 6,
"resolution": 14680.365261270355,
"scale": 1.6911780780983448E7
},
{
"level": 7,
"resolution": 7340.182630635178,
"scale": 8455890.390491724
},
{
"level": 8,
"resolution": 3670.091315317589,
"scale": 4227945.195245862
},
{
"level": 9,
"resolution": 1835.0456576587944,
"scale": 2113972.597622931
},
{
"level": 10,
"resolution": 917.5228288293972,
"scale": 1056986.2988114655
},
{
"level": 11,
"resolution": 458.7614144146986,
"scale": 528493.1494057328
},
{
"level": 12,
"resolution": 229.3807072073493,
"scale": 264246.5747028664
},
{
"level": 13,
"resolution": 114.69035360367465,
"scale": 132123.2873514332
},
{
"level": 14,
"resolution": 57.345176801837326,
"scale": 66061.6436757166
},
{
"level": 15,
"resolution": 28.672588400918663,
"scale": 33030.8218378583
},
{
"level": 16,
"resolution": 14.336294200459331,
"scale": 16515.41091892915
},
{
"level": 17,
"resolution": 7.168147100229666,
"scale": 8257.705459464574
},
{
"level": 18,
"resolution": 3.584073550114833,
"scale": 4128.852729732287
}
]
},
"storageInfo": {
"storageFormat": "esriMapCacheStorageModeCompactV2",
"packetSize": 128
},
"initialExtent": {
"xmin": 1.260087362468193E7,
"ymin": 326710.69587636535,
"xmax": 1.281467802765716E7,
"ymax": 483702.5914179659,
"spatialReference": {
"wkid": 103079,
"latestWkid": 6499,
"xyTolerance": 0.0032808398950131233,
"zTolerance": 2,
"mTolerance": 0.001,
"falseX": -107138600,
"falseY": -97193800,
"xyUnits": 3.744825048463371E7,
"falseZ": 0,
"zUnits": 1,
"falseM": -100000,
"mUnits": 10000
}
},
"fullExtent": {
"xmin": 1.2582948055774271E7,
"ymin": 181081.02690288424,
"xmax": 1.2933383645013124E7,
"ymax": 656634.328083992,
"spatialReference": {
"wkid": 103079,
"latestWkid": 6499,
"xyTolerance": 0.0032808398950131233,
"zTolerance": 2,
"mTolerance": 0.001,
"falseX": -107138600,
"falseY": -97193800,
"xyUnits": 3.744825048463371E7,
"falseZ": 0,
"zUnits": 1,
"falseM": -100000,
"mUnits": 10000
}
},
"datesInUnknownTimezone": false,
"units": "esriFeet",
"supportedImageFormatTypes": "PNG32,PNG24,PNG,JPG,DIB,TIFF,EMF,PS,PDF,GIF,SVG,SVGZ,BMP",
"documentInfo": {
"Title": "Allegan County Basemap",
"Author": "",
"Comments": " A simple basemap to use for online mapping.<\/SPAN><\/P><\/DIV>",
"Subject": "Basemap for Allegan County with orthoimagery.",
"Category": "",
"AntialiasingMode": "Fast",
"TextAntialiasingMode": "Force",
"Version": "2.9.0",
"Keywords": "basemap"
},
"supportedQueryFormats": "JSON, geoJSON, PBF",
"referenceScale": 0.0,
"datumTransformations": [
{
"geoTransforms": [
{
"wkid": 108190,
"latestWkid": 108190,
"transformForward": false,
"name": "WGS_1984_(ITRF00)_To_NAD_1983"
},
{
"wkid": 108363,
"latestWkid": 108363,
"transformForward": true,
"name": "WGS_1984_(ITRF08)_To_NAD_1983_2011"
}
]
},
{
"geoTransforms": [
{
"wkid": 108363,
"latestWkid": 108363,
"transformForward": false,
"name": "WGS_1984_(ITRF08)_To_NAD_1983_2011"
},
{
"wkid": 108190,
"latestWkid": 108190,
"transformForward": true,
"name": "WGS_1984_(ITRF00)_To_NAD_1983"
}
]
}
],
"supportsDatumTransformation": true,
"archivingInfo": {"supportsHistoricMoment": false},
"supportsClipping": true,
"supportsSpatialFilter": true,
"supportsTimeRelation": true,
"supportsQueryDataElements": true,
"maxRecordCount": 1000,
"maxImageHeight": 4096,
"maxImageWidth": 4096,
"capabilities": "TilesOnly,Tilemap",
"minScale": 1056986.2988114655,
"maxScale": 33030.8218378583,
"exportTilesAllowed": false,
"maxExportTilesCount": 100000,
"minLOD": 10,
"maxLOD": 15,
"supportedExtensions": "",
"serviceItemId": "276b35ea54514a79b0031d7a761a59af"
}