View In:
ArcGIS JavaScript
ArcGIS Online Map Viewer
ArcGIS Earth
ArcMap
ArcGIS Pro
View Footprint In:
ArcGIS Online Map Viewer
Service Description:
Map Name: Allegan County Orthoimagery Basemap c. 2023
Legend
All Layers and Tables
Layers:
Description:
Service Item Id: 0bcd6ae703e84279bc59039c997444ac
Copyright Text:
Spatial Reference:
103079
(6499)
Single Fused Map Cache: true
Tile Info:
- Height: 256
- Width: 256
- DPI: 96
-
Levels of Detail: 19
-
Level ID: 0
[ Start Tile, End Tile ]
- Resolution: 939543.3767213027
- Scale: 1.0823539699829407E9
-
Level ID: 1
[ Start Tile, End Tile ]
- Resolution: 469771.6883606514
- Scale: 5.411769849914703E8
-
Level ID: 2
[ Start Tile, End Tile ]
- Resolution: 234885.8441803257
- Scale: 2.7058849249573517E8
-
Level ID: 3
[ Start Tile, End Tile ]
- Resolution: 117442.92209016284
- Scale: 1.3529424624786758E8
-
Level ID: 4
[ Start Tile, End Tile ]
- Resolution: 58721.46104508142
- Scale: 6.764712312393379E7
-
Level ID: 5
[ Start Tile, End Tile ]
- Resolution: 29360.73052254071
- Scale: 3.3823561561966896E7
-
Level ID: 6
[ Start Tile, End Tile ]
- Resolution: 14680.365261270355
- Scale: 1.6911780780983448E7
-
Level ID: 7
[ Start Tile, End Tile ]
- Resolution: 7340.182630635178
- Scale: 8455890.390491724
-
Level ID: 8
[ Start Tile, End Tile ]
- Resolution: 3670.091315317589
- Scale: 4227945.195245862
-
Level ID: 9
[ Start Tile, End Tile ]
- Resolution: 1835.0456576587944
- Scale: 2113972.597622931
-
Level ID: 10
[ Start Tile, End Tile ]
- Resolution: 917.5228288293972
- Scale: 1056986.2988114655
-
Level ID: 11
[ Start Tile, End Tile ]
- Resolution: 458.7614144146986
- Scale: 528493.1494057328
-
Level ID: 12
[ Start Tile, End Tile ]
- Resolution: 229.3807072073493
- Scale: 264246.5747028664
-
Level ID: 13
[ Start Tile, End Tile ]
- Resolution: 114.69035360367465
- Scale: 132123.2873514332
-
Level ID: 14
[ Start Tile, End Tile ]
- Resolution: 57.345176801837326
- Scale: 66061.6436757166
-
Level ID: 15
[ Start Tile, End Tile ]
- Resolution: 28.672588400918663
- Scale: 33030.8218378583
-
Level ID: 16
[ Start Tile, End Tile ]
- Resolution: 14.336294200459331
- Scale: 16515.41091892915
-
Level ID: 17
[ Start Tile, End Tile ]
- Resolution: 7.168147100229666
- Scale: 8257.705459464574
-
Level ID: 18
[ Start Tile, End Tile ]
- Resolution: 3.584073550114833
- Scale: 4128.852729732287
- Format: Mixed
- Compression Quality: 75.0
- Origin: X: -1.0713819264027426E8
Y: 1.1550296244102809E8
- Spatial Reference: 103079
(6499)
Storage Info:
- Storage Format: esriMapCacheStorageModeCompactV2
- Packet Size: 128
Initial Extent:
XMin: 1.2627240572594777E7
YMin: 342653.8039578839
XMax: 1.2784262894692156E7
YMax: 454136.9500252996
Spatial Reference: 103079
(6499)
Full Extent:
XMin: 1.2604999992036821E7
YMin: 334999.98371114064
XMax: 1.2809999992104212E7
YMax: 469999.9837551768
Spatial Reference: 103079
(6499)
Units: esriFeet
Supported Image Format Types: PNG32,PNG24,PNG,JPG,DIB,TIFF,EMF,PS,PDF,GIF,SVG,SVGZ,BMP
Document Info:
Title: T:\GIS\data\ESRI_Templates\Allegan County Basemap Template\Allegan County Basemap Template.aprx
Author:
Comments:
Subject:
Category:
Keywords:
AntialiasingMode: None
TextAntialiasingMode: Force
Supports Dynamic Layers: false
MaxRecordCount: 1000
MaxImageHeight: 4096
MaxImageWidth: 4096
Supported Query Formats: JSON, geoJSON, PBF
Supports Query Data Elements: true
Min Scale: 2113972.597622931
Max Scale: 4128.852729732287
Min LOD: 9
Max LOD: 18
Supports Datum Transformation: true
Child Resources:
Info
Supported Operations:
QueryLegends
Return Updates