View In:
ArcGIS JavaScript
ArcGIS Online Map Viewer
ArcGIS Earth
ArcMap
ArcGIS Pro
View Footprint In:
ArcGIS Online Map Viewer
Service Description: <DIV STYLE="text-align:Left;font-size:12pt"><P><SPAN>A simple basemap to use for online mapping.</SPAN></P></DIV>
Map Name: AC Basemap
Legend
All Layers and Tables
Layers:
Description: <DIV STYLE="text-align:Left;font-size:12pt"><P><SPAN>A simple basemap to use for online mapping.</SPAN></P></DIV>
Service Item Id: 276b35ea54514a79b0031d7a761a59af
Copyright Text:
Spatial Reference:
103079
(6499)
LatestVCSWkid(0)
Single Fused Map Cache: true
Tile Info:
- Height: 256.0
- Width: 256.0
- DPI: 96.0
-
Levels of Detail: 19
-
Level ID: 0
[ Start Tile, End Tile ]
- Resolution: 939543.3767213027
- Scale: 1.0823539699829407E9
-
Level ID: 1
[ Start Tile, End Tile ]
- Resolution: 469771.6883606514
- Scale: 5.411769849914703E8
-
Level ID: 2
[ Start Tile, End Tile ]
- Resolution: 234885.8441803257
- Scale: 2.7058849249573517E8
-
Level ID: 3
[ Start Tile, End Tile ]
- Resolution: 117442.92209016284
- Scale: 1.3529424624786758E8
-
Level ID: 4
[ Start Tile, End Tile ]
- Resolution: 58721.46104508142
- Scale: 6.764712312393379E7
-
Level ID: 5
[ Start Tile, End Tile ]
- Resolution: 29360.73052254071
- Scale: 3.3823561561966896E7
-
Level ID: 6
[ Start Tile, End Tile ]
- Resolution: 14680.365261270355
- Scale: 1.6911780780983448E7
-
Level ID: 7
[ Start Tile, End Tile ]
- Resolution: 7340.182630635178
- Scale: 8455890.390491724
-
Level ID: 8
[ Start Tile, End Tile ]
- Resolution: 3670.091315317589
- Scale: 4227945.195245862
-
Level ID: 9
[ Start Tile, End Tile ]
- Resolution: 1835.0456576587944
- Scale: 2113972.597622931
-
Level ID: 10
[ Start Tile, End Tile ]
- Resolution: 917.5228288293972
- Scale: 1056986.2988114655
-
Level ID: 11
[ Start Tile, End Tile ]
- Resolution: 458.7614144146986
- Scale: 528493.1494057328
-
Level ID: 12
[ Start Tile, End Tile ]
- Resolution: 229.3807072073493
- Scale: 264246.5747028664
-
Level ID: 13
[ Start Tile, End Tile ]
- Resolution: 114.69035360367465
- Scale: 132123.2873514332
-
Level ID: 14
[ Start Tile, End Tile ]
- Resolution: 57.345176801837326
- Scale: 66061.6436757166
-
Level ID: 15
[ Start Tile, End Tile ]
- Resolution: 28.672588400918663
- Scale: 33030.8218378583
-
Level ID: 16
[ Start Tile, End Tile ]
- Resolution: 14.336294200459331
- Scale: 16515.41091892915
-
Level ID: 17
[ Start Tile, End Tile ]
- Resolution: 7.168147100229666
- Scale: 8257.705459464574
-
Level ID: 18
[ Start Tile, End Tile ]
- Resolution: 3.584073550114833
- Scale: 4128.852729732287
- Format: Mixed
- Compression Quality: 75.0
- Origin: X: -1.0713819264027426E8
Y: 1.1550296244102809E8
- Spatial Reference: 103079
(6499)
LatestVCSWkid(0)
Storage Info:
- Storage Format: esriMapCacheStorageModeCompactV2
- Packet Size: 128
Initial Extent:
XMin: 1.260087362468193E7
YMin: 326710.69587636535
XMax: 1.281467802765716E7
YMax: 483702.5914179659
Spatial Reference: 103079
(6499)
LatestVCSWkid(0)
Full Extent:
XMin: 1.2582948055774271E7
YMin: 181081.02690288424
XMax: 1.2933383645013124E7
YMax: 656634.328083992
Spatial Reference: 103079
(6499)
LatestVCSWkid(0)
Units: esriFeet
Supported Image Format Types: PNG32,PNG24,PNG,JPG,DIB,TIFF,EMF,PS,PDF,GIF,SVG,SVGZ,BMP
Document Info:
Title: Allegan County Basemap
Author:
Comments: <DIV STYLE="text-align:Left;font-size:12pt"><P><SPAN>A simple basemap to use for online mapping.</SPAN></P></DIV>
Subject: Basemap for Allegan County with orthoimagery.
Category:
Keywords: basemap
AntialiasingMode: Fast
TextAntialiasingMode: Force
Supports Dynamic Layers: false
MaxRecordCount: 1000
MaxImageHeight: 4096
MaxImageWidth: 4096
Supported Query Formats: JSON, geoJSON, PBF
Supports Query Data Elements: true
Min Scale: 1056986.2988114655
Max Scale: 33030.8218378583
Min LOD: 10
Max LOD: 15
Supports Datum Transformation: true
Child Resources:
Info
Supported Operations:
QueryLegends
Return Updates